BEGIN:VCALENDAR
VERSION:2.0
PRODID:-//Tukios.com/
BEGIN:VEVENT
UID:06514e51-5b48-4249-8682-41dd027d8cd8@www.koupfunerals.com
DTSTAMP:20260422T014703Z
DTSTART:20260428T180000Z
DTEND:20260428T190000Z
SUMMARY:Funeral Service
DESCRIPTION:
URL:https://www.koupfunerals.com/obituaries/monroe-pollock
LOCATION:Severy Baptist Church 201 South Greenwood Avenue  Severy KS 
	67137
GEO:37.6197079;-96.2284279
END:VEVENT
END:VCALENDAR