BEGIN:VCALENDAR
VERSION:2.0
PRODID:-//Tukios.com/
BEGIN:VEVENT
UID:5afd6f09-657e-455c-97de-26cacb7d0156@www.koupfunerals.com
DTSTAMP:20260421T215622Z
DTSTART:20260426T180000Z
DTEND:20260426T184500Z
SUMMARY:Visitation
DESCRIPTION:
URL:https://www.koupfunerals.com/obituaries/martha-greenwood
LOCATION: 521 North Main Street  Eureka KS 67045
GEO:37.8239595;-96.2944921
END:VEVENT
END:VCALENDAR