BEGIN:VCALENDAR
VERSION:2.0
PRODID:-//Tukios.com/
BEGIN:VEVENT
UID:fa709549-0cd5-493d-8f40-28cbd0f54f82@www.koupfunerals.com
DTSTAMP:20260421T215332Z
DTSTART:20260426T190000Z
DTEND:20260426T200000Z
SUMMARY:Memorial Service
DESCRIPTION:
URL:https://www.koupfunerals.com/obituaries/martha-greenwood
LOCATION: 521 North Main Street  Eureka KS 67045
GEO:37.8239595;-96.2944921
END:VEVENT
END:VCALENDAR